BEGIN:VCALENDAR
VERSION:2.0
PRODID:-//A2ZCommunity//NONSGML//EN
X-WR-CALNAME:SJM Event Calendar
CALSCALE:GREGORIAN
BEGIN:VEVENT
UID:222419@stjustinmartyr.org
DTSTART:20260228
DTEND:20260301
DESCRIPTION:Doors open at 6:00pm and trivia night begins at 7:00pm. All tab
	les are for eight people. Beer\, wine\, soda and water are included in cos
	ts. Everyone is welcome to bring their own snacks and food for their table
	s. We will be offering 50/50 raffle and silent auction items will keep the
	 night lively for you!&hellip\;
SUMMARY:SJM Trivia Night
DTSTAMP:20260423T133952Z
LAST-MODIFIED:20260423T133952Z
URL:https://stjustinmartyr.org/222419/sjm-trivia-night/
END:VEVENT
BEGIN:VEVENT
UID:222892@stjustinmartyr.org
DTSTART:20260301
DTEND:20260302
DESCRIPTION:Knights of Columbus Pancake Breakfast
SUMMARY:K of C Pancake Breakfast
DTSTAMP:20260423T133952Z
LAST-MODIFIED:20260423T133952Z
URL:https://stjustinmartyr.org/222892/k-of-c-pancake-breakfast-2/
END:VEVENT
BEGIN:VEVENT
UID:219383@stjustinmartyr.org
DTSTART:20260301
DTEND:20260302
DESCRIPTION:Sunday March 1\, 2026: All young families are invited to join o
	ur St. Justin Martyr - Little Flock monthly event! We will be gathering on
	 Sunday mornings (First Sunday of the Month) at the 11:00AM Mass and then 
	let the children enjoy some time on the school playground. It is a very ca
	sual event\, but it gives the kids a&hellip\;
SUMMARY:SJM Little Flock- Children's Mass and Play
DTSTAMP:20260423T133952Z
LAST-MODIFIED:20260423T133952Z
URL:https://stjustinmartyr.org/219383/sjm-little-flock-childrens-mass-
	and-play-9/
END:VEVENT
BEGIN:VEVENT
UID:223149@stjustinmartyr.org
DTSTART:20260305
DTEND:20260306
DESCRIPTION:Join the St. Justin Men’s Fellowship for Bonfire & Bourbon on
	 March 5 at 7:00 PM. A relaxed evening of fellowship for the men of the pa
	rish.
SUMMARY:Men’s Fellowship Bonfire & Bourbon
DTSTAMP:20260423T133952Z
LAST-MODIFIED:20260423T133952Z
URL:https://stjustinmartyr.org/223149/mens-fellowship-bonfire-bourbon/
END:VEVENT
BEGIN:VEVENT
UID:222832@stjustinmartyr.org
DTSTART:20260306
DTEND:20260307
DESCRIPTION:Consider this your o-fish-ial invitation! We hope you’ll join
	 us for shrimply irrestible food and reel fun! Our seaworthy sides will ha
	ve you exclaiming holy carp! Are you clam-oring for more puns? Then you sh
	ould dolphin-ately help out. Look for the link below to access our volunte
	er sign-up sheet. You can also preview our ex-squid-it&hellip\;
SUMMARY:SJM Fish Fry
DTSTAMP:20260423T133952Z
LAST-MODIFIED:20260423T133952Z
URL:https://stjustinmartyr.org/222832/sjm-fish-fry-2/
END:VEVENT
BEGIN:VEVENT
UID:223152@stjustinmartyr.org
DTSTART:20260312
DTEND:20260313
DESCRIPTION:Men’s Formation Night on March 12 at 7:00 PM includes a video
	 series and faith discussion. All men of the parish are welcome.
SUMMARY:Men’s Fellowship Formation Night
DTSTAMP:20260423T133952Z
LAST-MODIFIED:20260423T133952Z
URL:https://stjustinmartyr.org/223152/mens-fellowship-formation-night/
END:VEVENT
BEGIN:VEVENT
UID:223176@stjustinmartyr.org
DTSTART:20260312
DTEND:20260313
DESCRIPTION:SJM Uniform Exchange Spring Resale event is taking place on Thu
	rsday\, March 12th from 2:30-5:30 pm in the Gym Hallway. All proceeds go t
	o HSO to support teachers and students. Please bring cash. Prices are as f
	ollows: Plaid $5\; Sweatshirts $2\; "Good" Hoodies $5\; Polos / Bottoms $1
	 Good condition donations are welcome anytime –&hellip\;
SUMMARY:SJM Uniform Resale Event
DTSTAMP:20260423T133952Z
LAST-MODIFIED:20260423T133952Z
URL:https://stjustinmartyr.org/223176/sjm-uniform-resale-event-2/
END:VEVENT
BEGIN:VEVENT
UID:222839@stjustinmartyr.org
DTSTART:20260313
DTEND:20260314
DESCRIPTION:Join us for a Lenten Family Night at St. Justin Martyr on Frida
	y\, March 13. The evening includes Family Adoration from 5:00 to 5:30 pm\,
	 followed by pizza and fellowship. RSVP by March 11.
SUMMARY:Lenten Family Night at St. Justin Martyr
DTSTAMP:20260423T133952Z
LAST-MODIFIED:20260423T133952Z
URL:https://stjustinmartyr.org/222839/lenten-family-night-at-st-justin
	-martyr/
END:VEVENT
BEGIN:VEVENT
UID:222179@stjustinmartyr.org
DTSTART:20260314
DTEND:20260316
DESCRIPTION:Join us for the Bridge Bread Bake Sale after all weekend Masses
	 on March 14–15 in the gathering space. Bridge Bread Bakery provides sup
	portive employment to people without safe and stable housing. Bring cash o
	r check. Contact Noel Barrett at nbarrett116@gmail.com or 314-941-7602 to 
	volunteer.
SUMMARY:Bridge Bread Bake Sale
DTSTAMP:20260423T133952Z
LAST-MODIFIED:20260423T133952Z
URL:https://stjustinmartyr.org/222179/bridge-bread-bake-sale/
END:VEVENT
BEGIN:VEVENT
UID:223027@stjustinmartyr.org
DTSTART:20260315
DTEND:20260316
DESCRIPTION:Join the Soul Sisters IN THE GYM on March 15 at 12:15 pm for a 
	discussion of Slowing Down to the Speed of Joy by Matthew Kelly. All women
	 are welcome\, even if you haven’t read the book. Lunch will be provided
	.
SUMMARY:Soul Sisters March Gathering
DTSTAMP:20260423T133952Z
LAST-MODIFIED:20260423T133952Z
URL:https://stjustinmartyr.org/223027/soul-sisters-march-gathering-2/
END:VEVENT
BEGIN:VEVENT
UID:192463@stjustinmartyr.org
DTSTART:20260318
DTEND:20260319
DESCRIPTION:Join us to assemble meals for our freezer meals outreach on the
	 evening of Wednesday March 18. Please RSVP by Monday March 16. All adults
	 of any cooking ability are welcome. Students in 8th grade or older who ar
	e accompanied by their parent or adult confirmation sponsor may also atten
	d.
SUMMARY:Freezer Meals Service Project
DTSTAMP:20260423T133952Z
LAST-MODIFIED:20260423T133952Z
URL:https://stjustinmartyr.org/192463/freezer-meals-cook-night/
END:VEVENT
BEGIN:VEVENT
UID:223155@stjustinmartyr.org
DTSTART:20260319
DTEND:20260320
DESCRIPTION:Men’s Fellowship Service Night takes place March 19 at 7:00 P
	M. Join other men of the parish for hands-on service.
SUMMARY:Men’s Fellowship Service Night
DTSTAMP:20260423T133952Z
LAST-MODIFIED:20260423T133952Z
URL:https://stjustinmartyr.org/223155/mens-fellowship-service-night/
END:VEVENT
BEGIN:VEVENT
UID:222858@stjustinmartyr.org
DTSTART:20260323
DTEND:20260324
DESCRIPTION:Join us for a Lenten Penance Service on Monday\, March 23\, fro
	m 6:30 to 8:00 pm in the church. The evening will begin with a short praye
	r service\, followed by individual confessions with multiple priests avail
	able. All are welcome as we prepare our hearts during this holy season.
SUMMARY:Lenten Penance Service At St. Justin Martyr
DTSTAMP:20260423T133952Z
LAST-MODIFIED:20260423T133952Z
URL:https://stjustinmartyr.org/222858/lenten-penance-service-at-st-jus
	tin-martyr/
END:VEVENT
BEGIN:VEVENT
UID:223158@stjustinmartyr.org
DTSTART:20260323
DTEND:20260324
DESCRIPTION:On Monday\, March 23 at 6:30 PM\, the St. Justin Men’s Fellow
	ship invites the men of the parish to participate in the parish Penance Se
	rvice. An opportunity for Confession and prayer during Lent.
SUMMARY:Men’s Fellowship Worship: Penance Service
DTSTAMP:20260423T133952Z
LAST-MODIFIED:20260423T133952Z
URL:https://stjustinmartyr.org/223158/mens-fellowship-worship-penance-
	service/
END:VEVENT
BEGIN:VEVENT
UID:222050@stjustinmartyr.org
DTSTART:20260326
DTEND:20260330
DESCRIPTION:The women’s ACTS retreat for our parish will be held March 
	26–29\, 2026. This retreat offers a peaceful space to renew your prayer 
	life\, strengthen your faith\, and form lasting friendships. Led by women 
	from the parish with guidance from Fr. Hecktor\, the weekend follows a sim
	ple rhythm of prayer\, service\, and teaching. Our theme\, “Behold\, you
	r king comes to you\,” invites each woman to meet the Lord in a personal
	 and gentle way. It is a time to step away from daily routines and let God
	 speak to your heart.
SUMMARY:Women’s ACTS Retreat 2026: Behold\, Your King Comes to You
DTSTAMP:20260423T133952Z
LAST-MODIFIED:20260423T133952Z
URL:https://stjustinmartyr.org/222050/womens-acts-retreat-2026-behold-
	your-king-comes-to-you/
END:VEVENT
BEGIN:VEVENT
UID:223131@stjustinmartyr.org
DTSTART:20260329
DTEND:20260330
DESCRIPTION:Spring is in the air. Please consider donating at our next Pari
	sh Blood Drive on Sunday\, March 29. Due to a scheduling conflict\, Impact
	Life will be bringing their Blood Mobile to this drive. It will be station
	ed near the Parish Office/Rectory. To schedule an appointment please call 
	1-800-747-5401 or online at bloodcenter.org/group and use the&hellip\;
SUMMARY:SJM Spring Blood Drive
DTSTAMP:20260423T133952Z
LAST-MODIFIED:20260423T133952Z
URL:https://stjustinmartyr.org/223131/sjm-spring-blood-drive/
END:VEVENT
BEGIN:VEVENT
UID:217555@stjustinmartyr.org
DTSTART:20260401
DTEND:20260402
DESCRIPTION:Wednesday April 1\, 2026: All parishioners are invited to the c
	elebration of Tenebrae\, a service of light and shadows. This service\, be
	ginning at 7 pm\, is a prayerful 30-minute prequel to the Sacred Triduum c
	onsisting of Scripture and music.
SUMMARY:Tenebrae\, Lenten Service
DTSTAMP:20260423T133952Z
LAST-MODIFIED:20260423T133952Z
URL:https://stjustinmartyr.org/217555/tenebrae-lenten-service/
END:VEVENT
BEGIN:VEVENT
UID:218421@stjustinmartyr.org
DTSTART:20260402
DTEND:20260403
DESCRIPTION:Thursday April 2\, 2026: All parishioners and guests are invite
	d to our Holy Thursday Service in the Church. This event will take place a
	t 7:00pm. Afterwards\, we will offer silent Adoration in the Church until 
	midnight. All are welcome to spend some time with the Lord in prayer. Plea
	se contact the rectory with any questions. Thank you!
SUMMARY:Holy Thursday Service
DTSTAMP:20260423T133952Z
LAST-MODIFIED:20260423T133952Z
URL:https://stjustinmartyr.org/218421/holy-thursday-service/
END:VEVENT
BEGIN:VEVENT
UID:223162@stjustinmartyr.org
DTSTART:20260402
DTEND:20260403
DESCRIPTION:The St. Justin Men’s Fellowship invites the men of the parish
	 to attend the parish Holy Thursday Mass on April 2 at 7:00 PM.
SUMMARY:Men’s Fellowship Worship: Holy Thursday
DTSTAMP:20260423T133952Z
LAST-MODIFIED:20260423T133952Z
URL:https://stjustinmartyr.org/223162/mens-fellowship-worship-holy-thu
	rsday/
END:VEVENT
BEGIN:VEVENT
UID:218597@stjustinmartyr.org
DTSTART:20260403
DTEND:20260404
DESCRIPTION:Friday April 3\, 2026. The Commemoration of Our Lord’s Passio
	n will be at 7pm on Good Friday. The Commemoration of the Lord's Passion i
	s a solemn liturgical service in the Catholic Church that takes place on G
	ood Friday\, the Friday before Easter Sunday.
SUMMARY:Good Friday Services
DTSTAMP:20260423T133952Z
LAST-MODIFIED:20260423T133952Z
URL:https://stjustinmartyr.org/218597/good-friday-services-2/
END:VEVENT
BEGIN:VEVENT
UID:223506@stjustinmartyr.org
DTSTART:20260404
DTEND:20260405
DESCRIPTION:Join us for an Easter Egg Hunt at St. Justin Martyr on Saturday
	\, April 4th at 10:00 AM. Meet at the pavilion for eggs\, donuts\, games\,
	 and fun. All are welcome.
SUMMARY:Easter Egg Hunt at St. Justin Martyr
DTSTAMP:20260423T133952Z
LAST-MODIFIED:20260423T133952Z
URL:https://stjustinmartyr.org/223506/easter-egg-hunt-at-st-justin-mar
	tyr/
END:VEVENT
BEGIN:VEVENT
UID:218432@stjustinmartyr.org
DTSTART:20260404
DTEND:20260405
DESCRIPTION:Saturday April 4\, 2026: All parishioners and guests are invite
	d to our Easter Vigil mass. This special service will begin at 8:00pm in t
	he Church. We will be welcoming a few candidates into the Catholic Faith d
	uring this Mass. We encourage everyone to come support these amazing peopl
	e and celebrate our Risen Lord. We will have snacks and refreshments after
	wards…
SUMMARY:Easter Vigil Mass
DTSTAMP:20260423T133952Z
LAST-MODIFIED:20260423T133952Z
URL:https://stjustinmartyr.org/218432/easter-vigil-mass/
END:VEVENT
BEGIN:VEVENT
UID:218599@stjustinmartyr.org
DTSTART:20260405
DTEND:20260406
DESCRIPTION:Sunday April 5. Masses on the morning of Easter will be at 7:30
	am\, 9am\, and 11am.   Easter is the most important feast in the Catholi
	c Church\, as it celebrates the central event of the Christian faith: the 
	Resurrection of Jesus Christ from the dead.
SUMMARY:Easter Sunday Morning Masses
DTSTAMP:20260423T133952Z
LAST-MODIFIED:20260423T133952Z
URL:https://stjustinmartyr.org/218599/easter-sunday-masses-2/
END:VEVENT
BEGIN:VEVENT
UID:219387@stjustinmartyr.org
DTSTART:20260405
DTEND:20260406
DESCRIPTION:Sunday April 5\, 2026: All young families are invited to join o
	ur St. Justin Martyr - Little Flock monthly event! We will be gathering on
	 Sunday mornings (First Sunday of the Month) at the 11:00AM Mass and then 
	let the children enjoy some time on the school playground. It is a very ca
	sual event\, but it gives the kids a&hellip\;
SUMMARY:SJM Little Flock- Children's Mass and Play
DTSTAMP:20260423T133952Z
LAST-MODIFIED:20260423T133952Z
URL:https://stjustinmartyr.org/219387/sjm-little-flock-childrens-mass-
	and-play-10/
END:VEVENT
BEGIN:VEVENT
UID:223510@stjustinmartyr.org
DTSTART:20260412
DTEND:20260413
DESCRIPTION:Join us for Divine Mercy Sunday on April 12. The Chaplet will b
	e prayed after the 9:00 AM Mass. Learn how to prepare through Confession\,
	 prayer\, and trust in God’s mercy.
SUMMARY:Divine Mercy Sunday Celebration at St. Justin Martyr
DTSTAMP:20260423T133952Z
LAST-MODIFIED:20260423T133952Z
URL:https://stjustinmartyr.org/223510/divine-mercy-sunday-celebration-
	at-st-justin-martyr/
END:VEVENT
BEGIN:VEVENT
UID:223503@stjustinmartyr.org
DTSTART:20260416
DTEND:20260417
DESCRIPTION:Join us for a seven-week Lectio Divina series on Mary beginning
	 April 16\, 2026. Gather for prayer\, Scripture\, and reflection each Thur
	sday from 1:00 to 2:30 pm. All are welcome.
SUMMARY:Lectio Divina On Mary: A Time To Gather And Pray
DTSTAMP:20260423T133952Z
LAST-MODIFIED:20260423T133952Z
URL:https://stjustinmartyr.org/223503/lectio-divina-on-mary-a-time-to-
	gather-and-pray/
END:VEVENT
BEGIN:VEVENT
UID:223234@stjustinmartyr.org
DTSTART:20260418
DTEND:20260419
DESCRIPTION:Please register by April 13. Join St. Justin Martyr and St. Cat
	herine Labouré Parishes for a Welcome Neighbor Dinner featuring authentic
	 Afghan cuisine prepared by Afghan cooks. Enjoy a delicious meal while lea
	rning about the experiences of local refugees and the outreach work of Wel
	come Neighbor STL. The event will be held April 18 at the St. Justin Marty
	r Parish Center.
SUMMARY:Welcome Neighbor Afghan Dinner At St. Justin Martyr
DTSTAMP:20260423T133952Z
LAST-MODIFIED:20260423T133952Z
URL:https://stjustinmartyr.org/223234/welcome-neighbor-afghan-dinner-a
	t-st-justin-martyr/
END:VEVENT
BEGIN:VEVENT
UID:223540@stjustinmartyr.org
DTSTART:20260419
DTEND:20260420
DESCRIPTION:All women are invited to the Soul Sisters gathering on Sunday A
	pril 19. Come enjoy a light lunch and conversation\, while we talk about t
	he symbolism of flowers and participate in a botanical inspired craft. Joi
	n us at 12:15 pm in the Church gathering space.
SUMMARY:Soul Sisters April Gathering: Flowers\, Friendship\, and Faith
DTSTAMP:20260423T133952Z
LAST-MODIFIED:20260423T133952Z
URL:https://stjustinmartyr.org/223540/soul-sisters-april-gathering-flo
	wers-friendship-and-faith/
END:VEVENT
BEGIN:VEVENT
UID:223675@stjustinmartyr.org
DTSTART:20260501
DTEND:20260502
DESCRIPTION:First Friday Adoration will be held on Friday\, May 1\, 2026\, 
	from 9:00 am-7:00 pm. Exposition will take place following the 8:00 am sch
	ool mass. Adoration will continue throughout the day\, ending with Benedic
	tion at 7:00 pm.
SUMMARY:First Friday Adoration
DTSTAMP:20260423T133952Z
LAST-MODIFIED:20260423T133952Z
URL:https://stjustinmartyr.org/223675/first-friday-adoration/
END:VEVENT
BEGIN:VEVENT
UID:223513@stjustinmartyr.org
DTSTART:20260502
DTEND:20260503
DESCRIPTION:Join St. Justin Martyr for a Day of Service on May 2\, 2026. Se
	rve in indoor and outdoor projects\, attend Mass\, and enjoy food and fell
	owship with the parish community.
SUMMARY:St. Justin’s Day of Service: The Gift of Serving
DTSTAMP:20260423T133952Z
LAST-MODIFIED:20260423T133952Z
URL:https://stjustinmartyr.org/223513/st-justins-day-of-service-the-gi
	ft-of-serving/
END:VEVENT
BEGIN:VEVENT
UID:223657@stjustinmartyr.org
DTSTART:20260502
DTEND:20260503
DESCRIPTION:Join the St. Justin Men’s Fellowship on May 2 at 12 PM for a 
	Day of Service. Come serve others\, build friendships\, and live your fait
	h in a simple and meaningful way.
SUMMARY:Serve Together As Brothers In Christ
DTSTAMP:20260423T133952Z
LAST-MODIFIED:20260423T133952Z
URL:https://stjustinmartyr.org/223657/serve-together-as-brothers-in-ch
	rist/
END:VEVENT
BEGIN:VEVENT
UID:223532@stjustinmartyr.org
DTSTART:20260503
DTEND:20260504
DESCRIPTION:Knights of Columbus We are once again going to have a pancake b
	reakfast. The breakfast will be held on Sunday\, May 3\, 2026\, from 8:00 
	am until 11:00 am. The menu will consist of pancakes\, bacon\, sausage\, s
	crambled eggs\, fruit\, coffee\, milk\, and orange juice. Please consider 
	supporting our event so we may continue to&hellip\;
SUMMARY:Knights of Columbus Pancake Breakfast
DTSTAMP:20260423T133952Z
LAST-MODIFIED:20260423T133952Z
URL:https://stjustinmartyr.org/223532/knights-of-columbus-pancake-brea
	kfast/
END:VEVENT
BEGIN:VEVENT
UID:219391@stjustinmartyr.org
DTSTART:20260503
DTEND:20260504
DESCRIPTION:Sunday May 3\, 2026: All young families are invited to join our
	 St. Justin Martyr - Little Flock monthly event! We will be gathering on S
	unday mornings (First Sunday of the Month) at the 11:00AM Mass and then le
	t the children enjoy some time on the school playground. It is a very casu
	al event\, but it gives the kids a&hellip\;
SUMMARY:SJM Little Flock- Children's Mass and Play
DTSTAMP:20260423T133952Z
LAST-MODIFIED:20260423T133952Z
URL:https://stjustinmartyr.org/219391/sjm-little-flock-childrens-mass-
	and-play-11/
END:VEVENT
BEGIN:VEVENT
UID:223661@stjustinmartyr.org
DTSTART:20260505
DTEND:20260506
DESCRIPTION:Join us on May 5 at 8 PM for Worship and Confession. Take time 
	to pray\, reflect\, and receive God’s mercy in a peaceful and welcoming 
	setting.
SUMMARY:Men's Worship And Confession Night: A Time For Prayer And Renewal
DTSTAMP:20260423T133952Z
LAST-MODIFIED:20260423T133952Z
URL:https://stjustinmartyr.org/223661/worship-and-confession-night-a-t
	ime-for-prayer-and-renewal/
END:VEVENT
BEGIN:VEVENT
UID:223632@stjustinmartyr.org
DTSTART:20260508
DTEND:20260509
DESCRIPTION:Join us for Family Night on Friday\, May 8 at St. Justin Martyr
	. We will begin with Family Adoration from 5:00 to 5:30 p.m.\, followed by
	 pizza and time at the playground. All are welcome. RSVP by May 6.
SUMMARY:Family Night At St. Justin Martyr
DTSTAMP:20260423T133952Z
LAST-MODIFIED:20260423T133952Z
URL:https://stjustinmartyr.org/223632/family-night-at-st-justin-martyr
	/
END:VEVENT
BEGIN:VEVENT
UID:223650@stjustinmartyr.org
DTSTART:20260509
DTEND:20260510
DESCRIPTION:Join us for a Cornhole Tournament on May 9 at 12 PM at St. Just
	in Athletic Fields. $20 per team. Register by May 6 and support retreat pr
	ograms while enjoying a fun afternoon.
SUMMARY:Cornhole Tournament Fun-Raiser
DTSTAMP:20260423T133952Z
LAST-MODIFIED:20260423T133952Z
URL:https://stjustinmartyr.org/223650/cornhole-tournament-fun-raiser/
END:VEVENT
BEGIN:VEVENT
UID:223664@stjustinmartyr.org
DTSTART:20260514
DTEND:20260515
DESCRIPTION:Join us May 14 at 7 PM for Bonfire and Bourbon. Enjoy a relaxed
	 evening of fellowship\, conversation\, and connection with other men of t
	he parish.
SUMMARY:Men's Bonfire And Bourbon Night: Fellowship Around The Fire
DTSTAMP:20260423T133952Z
LAST-MODIFIED:20260423T133952Z
URL:https://stjustinmartyr.org/223664/bonfire-and-bourbon-night-fellow
	ship-around-the-fire/
END:VEVENT
BEGIN:VEVENT
UID:223666@stjustinmartyr.org
DTSTART:20260521
DTEND:20260522
DESCRIPTION:Join us May 21 at 7 PM for Formation Night. Take time to learn\
	, reflect\, and grow in your faith alongside other men of the parish.
SUMMARY:Men's Formation Night: Grow In Faith Together
DTSTAMP:20260423T133952Z
LAST-MODIFIED:20260423T133952Z
URL:https://stjustinmartyr.org/223666/mens-formation-night-grow-in-fai
	th-together/
END:VEVENT
BEGIN:VEVENT
UID:223668@stjustinmartyr.org
DTSTART:20260528
DTEND:20260529
DESCRIPTION:Join us May 28 at 7 PM for Service Night. Come serve others\, c
	onnect with other men of the parish\, and live out your faith in a simple 
	and meaningful way.
SUMMARY:Men's Service Night: Serve With Purpose And Fellowship
DTSTAMP:20260423T133952Z
LAST-MODIFIED:20260423T133952Z
URL:https://stjustinmartyr.org/223668/service-night-serve-with-purpose
	-and-fellowship/
END:VEVENT
BEGIN:VEVENT
UID:223518@stjustinmartyr.org
DTSTART:20260601
DTEND:20260606
DESCRIPTION:Vacation Bible School returns to St. Justin Martyr June 1–5 f
	rom 9:00 am to 12:00 pm. Children ages 3 through those entering 6th grade 
	are invited to join us for a week of faith\, fun\, and friendship. Youth a
	nd adult volunteers are also needed.
SUMMARY:Vacation Bible School 2026 At St. Justin Martyr
DTSTAMP:20260423T133952Z
LAST-MODIFIED:20260423T133952Z
URL:https://stjustinmartyr.org/223518/vacation-bible-school-2026-at-st
	-justin-martyr/
END:VEVENT
BEGIN:VEVENT
UID:219395@stjustinmartyr.org
DTSTART:20260607
DTEND:20260608
DESCRIPTION:Sunday June 7\, 2026: All young families are invited to join ou
	r St. Justin Martyr - Little Flock monthly event! We will be gathering on 
	Sunday mornings (First Sunday of the Month) at the 11:00AM Mass and then l
	et the children enjoy some time on the school playground. It is a very cas
	ual event\, but it gives the kids a&hellip\;
SUMMARY:SJM Little Flock- Children's Mass and Play
DTSTAMP:20260423T133952Z
LAST-MODIFIED:20260423T133952Z
URL:https://stjustinmartyr.org/219395/sjm-little-flock-childrens-mass-
	and-play-12/
END:VEVENT
BEGIN:VEVENT
UID:222776@stjustinmartyr.org
DTSTART:20260716
DTEND:20260717
DESCRIPTION:Father Hector\, Father Bob and Deacon Mark invite all the men o
	f the parish to make our annual White House Retreat starting Thursday nigh
	t July 16th and ending Sunday July 19th\,2026. Please join the 43 men who 
	made this great spiritual silent retreat last year. You will be glad to ha
	ve spent time quiet time…
SUMMARY:Men's Annual White House Retreat
DTSTAMP:20260423T133952Z
LAST-MODIFIED:20260423T133952Z
URL:https://stjustinmartyr.org/222776/mens-annual-white-house-retreat-
	2/
END:VEVENT
BEGIN:VEVENT
UID:195771@stjustinmartyr.org
DTSTART:20270101
DTEND:20270102
DESCRIPTION:The Solemnity of Mary\, the Mother of God is a Holy Day of Obli
	gation. Masses will be at 5pm on December 31 and 9am on January 1.
SUMMARY:The Solemnity of Mary\, the Mother of God
DTSTAMP:20260423T133952Z
LAST-MODIFIED:20260423T133952Z
URL:https://stjustinmartyr.org/195771/the-feast-of-mary-the-mother-of-
	god/
END:VEVENT
BEGIN:VEVENT
UID:222952@stjustinmartyr.org
DTSTART:20270214
DTEND:20270215
DESCRIPTION:Sunday February 14\, 2027: KNIGHTS OF COLUMBUS JIM SUELLENTROP 
	MEMORIAL BBQ Please join the us at the Super BBQ on Sunday\, February 14\,
	 2027\, from 11:00 am - 4:00 pm. Ribs\, pulled pork\, wings\, hamburgers\,
	 cheese burgers\, bratwursts and hot dogs will be served. Cole slaw\, pota
	to salad\, and baked beans are sold by the pound or as a side.&hellip\;
SUMMARY:Super BBQ Sunday
DTSTAMP:20260423T133952Z
LAST-MODIFIED:20260423T133952Z
URL:https://stjustinmartyr.org/222952/super-bbq-sunday/
END:VEVENT
END:VCALENDAR